BEGIN:VCALENDAR
VERSION:2.0
PRODID:-//Bryne FK - ECPv6.15.18//NONSGML v1.0//EN
CALSCALE:GREGORIAN
METHOD:PUBLISH
X-ORIGINAL-URL:https://heiabryne.no
X-WR-CALDESC:Arrangement for Bryne FK
REFRESH-INTERVAL;VALUE=DURATION:PT1H
X-Robots-Tag:noindex
X-PUBLISHED-TTL:PT1H
BEGIN:VTIMEZONE
TZID:Europe/Paris
BEGIN:DAYLIGHT
TZOFFSETFROM:+0100
TZOFFSETTO:+0200
TZNAME:CEST
DTSTART:20250330T010000
END:DAYLIGHT
BEGIN:STANDARD
TZOFFSETFROM:+0200
TZOFFSETTO:+0100
TZNAME:CET
DTSTART:20251026T010000
END:STANDARD
BEGIN:DAYLIGHT
TZOFFSETFROM:+0100
TZOFFSETTO:+0200
TZNAME:CEST
DTSTART:20260329T010000
END:DAYLIGHT
BEGIN:STANDARD
TZOFFSETFROM:+0200
TZOFFSETTO:+0100
TZNAME:CET
DTSTART:20261025T010000
END:STANDARD
BEGIN:DAYLIGHT
TZOFFSETFROM:+0100
TZOFFSETTO:+0200
TZNAME:CEST
DTSTART:20270328T010000
END:DAYLIGHT
BEGIN:STANDARD
TZOFFSETFROM:+0200
TZOFFSETTO:+0100
TZNAME:CET
DTSTART:20271031T010000
END:STANDARD
END:VTIMEZONE
BEGIN:VEVENT
DTSTART;TZID=Europe/Paris:20260410T080000
DTEND;TZID=Europe/Paris:20260410T170000
DTSTAMP:20260422T163726
CREATED:20260129T082951Z
LAST-MODIFIED:20260410T074514Z
UID:4676-1775808000-1775840400@heiabryne.no
SUMMARY:Bryne FK fyller 100 år
DESCRIPTION:INVITASJON TIL 100-ÅRSJUBILEUMBryne Fotballklubb – 1926 – 2026 \nI 100 år har Bryne FK skapt lidenskap\, samhold og store øyeblikk. Nå inviterer vi til en storslått feiring av klubbens første århundre! \nJubileumsshow i StorstovaVi markerer 100-årsdagen med et festshow fylt av minner\, historier og høydepunkter fra Bryne FK sin rike historie. Det blir også utdeling av æresmedlemskap og hederstegn i gull fra hederstegn-komiteen. \nGjester: En rekke prominente navn som har satt sitt preg på Bryne FK gjennom tidene:\nTrond Sirevåg\, Børre Meinseth og Thomas Dahl\n\nEinar Braut og Roger Eskeland\nMed flere\n\nKonferansier: Brigt Skrettingland \nShowet varer i 2 x 45 minutter – pluss tillegg. \nDette blir en kveld med både latter\, nostalgi og stolthet – en hyllest til alle som har bidratt til å gjøre Bryne FK til det klubben er i dag. \nBli med og feire 100 år med historie\, nye og gamle helter sammen med alle med hjerte for Bryne! \nTid og sted:10. april kl. 18:00 – 20:00 i Storstova på Bryne.\nMottakelse og mingling i Storstova fra klokken 17:00 \nFra klokken 20:00 er det 100-årsfest på Hotell Jæren med festtaler\, utmerkelser og underholdning fra Bryne-bandene Svenssen og Silo & Saft. \nBestill middag og plass ved bordet i påmeldingsskjema. Kroner 495 per person for tapas-meny. \nInvitasjonen er personlig og kan ikke overføres til andre. Vi har sendt ut invitasjoner til mange og opplever at de forsvinner i spam-boksen eller at vi ikke har korrekt adresse. Alle tidligere ansatte av Bryne FK er velkommen til å melde seg på arrangementet. \nVelkommen til jubileumsfest! \nMed vennlig hilsenBryne Fotballklubb \nPåmelding:\nPåmelding stengt. Skaff deg billett til jubileumsshowet her \nGjesteliste: \n NavnFirma\, organisasjon eller tilknytning til klubbenInge Brigt AarbakkeAarbakkeGabriel HøylandÆresmedlemMarie GrastveitAiderAne NærlandAiderIselin Evje RusdalAktiv spiller på kvinner A og ansatt i klubbenKurt GauslandAnsattEster RettedalAnsattAvadaat CavaleAnsattEspen og Marianne UndheimAnsattLotte SteenAnsattAnders KristiansenAnsattAsgeir BoreAnsatt i klubbenReidun SkrettingAnsatt/satt i styretHarald AurslandAnsatt+styremedlemGeir Steinar SerigstadÅrdal Maskinering ASRegine Nærland SerigstadÅrdal Maskinering ASBjarte ApelandBakehusetAnders bjerkevollBondehæren/suporterKristian StapnesBring Cargo ASPål-StianBryneBjørn Hagerup RøkenBryne FKHans-Øyvind SagenBryne FKAsgeir NesvågBryne FKThomas DahlBryne FKAnne Lise OlsenBryne FKSigbjørn BøBryne FKLisa ChristiansenBryne FKØrjan HeibergBryne FKAnton An HoBryne FKGunnar EngelsvollBryne FKAnne Grethe H FlataukanBryne fk ansattKristoffer LerstølBryne FK styreleder\, trenerFrode Hagerup jrBryne FK styretOlav Stangeland LygrenBryne FK\, ansatt/styremedlemHannah SøylandBryne kvinne AVibeke FjogstadBryne kvinner Atonette sivertsenbryne kvinner a spillerLinea JensenBryne Kvinner A spillerMorten SelandBryne supporterklubbBrede BergstadBrynepostenBrede BergstadBrynepostenPer Inge ReeByggelagetEskil SolaByggelagetElse Høyland JorangerDeloitteMerete SkårlandDeloitteRonny TimeDigernes ASGlenn TimeDigernes ASKjetil HelliesenDitt Nettverk ASEgil NærlandEks. redaktør/journalist Stavanger AftenbladAtle GursliET ByggJan Erik TuenET Bygg ASRoyHustoft FlataukanFølge til Anne GretheLars O LarsenForbunds Dommer! Medlem fra 1966 !Øystein Grutle HaaraFotograf Øystein HaaraTore SøylandFrivilligMarvin HustoftFrivillig i Bryne FKBerit HustoftFrivillig i Bryne FKRoar RoslandFrivillig i klubbenunni EinarsenFrivillig på vippenMartin Olav EgelandFrivillig programleder BrynepostenEirik LøgeGeograf DigitalRagnhild Reime HorpestadHå RugeriArild PollestadHå RugeriAlf Ingve BerntsenHar vært trener i klubben i mange årMagnar vigrestadHar vert trener for dame lagetCathrine TunheimHedertegn komitéIvar K HognestadHognestad ilHans Jakob MellgrenIKM Gruppen ASLena SkjævelandJærbladetLars Sølve LarsenJærtek AS + tidligere fotballdommer i Bryne FKOle Stian HøylandKåsen ILFrits KvernelandKjosavik ASBjørn MoiKomiteenGeir Magnus SandveKomitemedlemTrygve ApelandKommunedirektørRanveig UndheimLeder i Undheim IdrettslagKjetil TjålandLivslang supporterTomas KaadaLyseBerge Opstad RuglandLyseHelge TorgersenMedlem & i PensjonistgruppaTerje HauglandMedlem pensjonistgruppa - tidligere styremedlemHelge JørgensenNFF RogslandPaal FjeldstadNordeaSiv Iren KleppNordic SteelSteffen SkinnarlandNordic SteelPer G. RønningNORDIC STEEL ASJan SerigstadOppmann A-laget 1984 og 1985Jarle KartevollP Undheim ASPål UndheimP Undheim ASGeir HamrePensjoninstEndre refsnesPensjonist gjengenJarl Martinsenpensjonist gruppenEndre refsnesPensjonist klubben dugnad\, vakt osv.Helge TorgersenPensjonistgjengen\, medlem…Odd HøylandPensjonistgruppe - medlemTerje nessePensjonistgruppen/dugnadjengenMaren Voll KlungtveitPixaTor Inge OgnedalPixa ASIngmund EgelandPlanumMarianne OrstadSabi SushiØystein NygårdSandmyr podkastErling RageSig Halvorsen AS\, Keeper på Old Boys og for Bryen 3\, keepertrener for gutter og jenter i ca 10 -12 årArvid SalteSkogly Investering ASAnne Bergitte SalteSkogly Investering ASTomas TuenSLO Bryne FKKrister WembergSparebank1 Sør-NorgeChristoffer SingstadSparebanken NorgeGisle HøylandSparebanken NorgePer Kristian VoldSpeakerBirk EngstrømSpillerTonje ØfstengSpillerKarina Fløysvik HæåkSpillerAsgeir Kleppaspiller og trenerGeir HerremSpiller-trenerAage AaslandSpiller\, trener\, lederBjørn Magne StangelandSponsorNils SteinslandSteinsland & CoSvein-Erik FatnesStorm SikkerhetKari SirumStorm SikkerhetGeir Heskjastøtte medlem\, vaktTor Kåre FisketjønStøttemedlemTor FisketjønStøttemedlemKarl Kristian AlsvikStøttemedlem\, tidligere trener i klubbenPer BergstadStyreLise Espeland særheimStyreHans HaugeStyre - stellTerje WesterStyreleder 1997-1999Odd NetlandStyremedlem i fotballgruppa og hovedstyreLinn ØklandStyretEspen JorangerStyretMerete BjerkevollStyret 2026Cathrine RerSupporterSondre LøgeSupporterSvein Harald KleppeSupporter + mye annet.Luca HadlandSupporter\, styremedlem bondehæren 2026Wenche VinninglandTidl ansattTrond SirevågTidl spillerKenneth GiskeTidlegare spelarHans HERIKSTADTidlegare spelarOddvar KristensenTidligare spillerBirk Engstrøm m/koneTidligere aktiv spillerWenche VinninglandTidligere ansattOle SeldalTidligere ansatt i klubbenIngve DigernedTidligere daglig lederOlaug Salte SirevågTidligere frivilligØyvind HaaraTidligere frivillig. Tidligere styremedlemTor Gunnar SolbergTidligere keeper\, medlem pensjonistgruppagrReidar B. ThuTidligere leder og æresmedlemHåkon UrstadTidligere speaker fra 2001-2022Bjarne Damsgård LangelandTidligere spillerRogvi BaldvinssonTidligere spillerKai Ove StokkelandTidligere spillerBjarne UndheimTidligere spillerMarius HelleTidligere spillerBørre MeinsethTidligere spillerOle HjelmhaugTidligere spillerOlav SigbjørnsenTidligere spillerEivind KarlsbakkTidligere spillerEinar BrautTidligere spillerSvein BøTidligere spillerHåvard UrstadTidligere spillerKjell IversenTidligere spillerRune medalentidligere spillerMagnus GrødemTidligere spillerAre Gabriel HøylandTidligere spiller - aldersbestemtArne SigbjørnsenTidligere spiller (1980) og sønn av Olav SigbjørnsenRoar PedersenTidligere spiller (1984 - 1988)Ståle OlsenTidligere spiller + sponsor SpareBank 1Ståle OlsenTidligere spiller og sponsor i dagLeif Rune SalteTidligere spiller og tidligere ansattPeter MörkTidligere spillereFrode Sigurd BergTidligere styrelederStaale Grude HaalandTidligere styreleder (mm)Preben AamodtTidligere Styreleder m merSvein BergstadTidligere styreleder\, leder kontrollutvalg\, leder valgkomitee\, Bryneposten\, banespeaker mmKenneth EidsaunetTidligere trenerBjarne BerntsenTidligere trenerTommy A. VeldeTidligere trener for damelaget og i ungdomsavdelingenElisabeth DysjalandTime idrettsrådStian LangelandTime kommuneAndreas VollsundTime kommuneGaute StokkaTime Kommune. VaraordførerSirwan SaadunTrene/DamelagetTerje NesseTrener damelagØyvind HarestadTrener G-14Olav MelkårenVaskeri a-lag menn / materialforvalterHaavard HanaVideoAssistJoachim FormoWestco MiljøSiv Elise SelandWoodlingTor Eilev KleiverudWoodling
URL:https://heiabryne.no/event/bryne-fk-fyller-100-ar/
CATEGORIES:Nettverkstreff
ATTACH;FMTTYPE=image/jpeg:https://heiabryne.no/wp-content/uploads/2026/01/Bryne-FK-1928-1.jpg
END:VEVENT
END:VCALENDAR