BEGIN:VCALENDAR
VERSION:2.0
PRODID:-//Bryne FK - ECPv6.15.18//NONSGML v1.0//EN
CALSCALE:GREGORIAN
METHOD:PUBLISH
X-WR-CALNAME:Bryne FK
X-ORIGINAL-URL:https://heiabryne.no
X-WR-CALDESC:Arrangement for Bryne FK
REFRESH-INTERVAL;VALUE=DURATION:PT1H
X-Robots-Tag:noindex
X-PUBLISHED-TTL:PT1H
BEGIN:VTIMEZONE
TZID:Europe/Paris
BEGIN:DAYLIGHT
TZOFFSETFROM:+0100
TZOFFSETTO:+0200
TZNAME:CEST
DTSTART:20250330T010000
END:DAYLIGHT
BEGIN:STANDARD
TZOFFSETFROM:+0200
TZOFFSETTO:+0100
TZNAME:CET
DTSTART:20251026T010000
END:STANDARD
BEGIN:DAYLIGHT
TZOFFSETFROM:+0100
TZOFFSETTO:+0200
TZNAME:CEST
DTSTART:20260329T010000
END:DAYLIGHT
BEGIN:STANDARD
TZOFFSETFROM:+0200
TZOFFSETTO:+0100
TZNAME:CET
DTSTART:20261025T010000
END:STANDARD
BEGIN:DAYLIGHT
TZOFFSETFROM:+0100
TZOFFSETTO:+0200
TZNAME:CEST
DTSTART:20270328T010000
END:DAYLIGHT
BEGIN:STANDARD
TZOFFSETFROM:+0200
TZOFFSETTO:+0100
TZNAME:CET
DTSTART:20271031T010000
END:STANDARD
END:VTIMEZONE
BEGIN:VEVENT
DTSTART;TZID=Europe/Paris:20260422T073000
DTEND;TZID=Europe/Paris:20260422T100000
DTSTAMP:20260422T131940
CREATED:20260128T125500Z
LAST-MODIFIED:20260414T105405Z
UID:4644-1776843000-1776852000@heiabryne.no
SUMMARY:Nettverksfrokost på Håland Kjøtt
DESCRIPTION:Tid: Onsdag 22. april klokken 07:30Sted: Håland Kjøtt \n\nNettverkstreff med Bryne FK \n\n\n07:30 Mingling og frokost08:00 Velkommen ved Bryne FK08:15 Inspirerende i dag\, nyttig i morgenVi får besøk av Compendia\, hvor Sonja Hauan vil introdusere oss for et spennende tema som ofte blir undervurdert innen team- og lederutvikling. Sonja vil vise hvorfor selvinnsikt er avgjørende\, og gjennom statistikk og levende historier utfordre oss til å se på oss selv og samspillet med andre på helt nye måter. Dette blir en mulighet til å revurdere hvordan vi påvirker hverandre i hverdagen – og kanskje oppdage sider ved oss selv vi ikke har tenkt over. Vi ser frem til et inspirerende møte! \nFerdig innen kl 10:00 \n\n\nPåmeldingsfrist mandag 20. april kl 12:00. \n\nVennligst registrer din deltagelse her: Please enable JavaScript in your browser to complete this form.LayoutNavn *Firma *Epost *Jeg kommer   \nDisse har meldt seg på:\n NavnFirmaAne NærlandAider ASMarie GrastveitAider ASHege GrødelandAlfa Safe ASKenneth ØdegårdArbeidsklærsenteret JKKSvein VoldAS EikhiTor Sigve TaksdalAustrått Kaffebrenneri ASJo Inge HeskjeBerentsens BrygghusMari ByreBølgen SocialAsgeir NesvågBryne FKHans-Øyvind SagenBryne FKAnne Grethe H FlataukanBryne FkBjørn Hagerup RøkenBryne FKLisa ChristiansenBryne FKMads UelandBryne Kro & HotellHelge NordbrøndBryne Rør ASTor HauglandBryne Rør ASEskil SolaByggelagetJorunn Erga SteinslandCompendiaVigdis BergstadCompendia ASkenneth olsenD.Danielsen ASTommy GunvaldsenDalane Energisalg ASJon Egil AuestadDeloitteSiri Hodne VollsundDeloitte Advokatfirma ASKjetil HelliesenDitt Nettverk ASTorill Braut NesseEcit DataplanRagnvald SomaElisGunnar EngelsvollEngelsvoll ByggSvein-ErikFatnesDaniel ChaibiFoodbackAtle JerstadGlødefiskTonje EgelandGrand Hotell EgersundArne Hernæs LarsenHeimdalSander VebenstadHeimdalElse LarsenHotell JærenKristian HinnaiteamKenneth WaldeJæren SparebankThomas JansenJærentreprenørLars Sølve LarsenJærtekJan Magne BjellandKverneland Bil Vest ASJan Terje SolliMotorcenter NorwayKetil AuneNorDan ASPaal FjeldstadNordeaTor Inge OgnedalPixaKjell-Inge PedersenPizzabakeren Norge Drift asIngmund EgelandPlanumLeif-Roddy HelmersenRespond ProfilKåreSalteØystein NygårdSandmyr-Litt djupareGeir TengesdalSandnes MarkiseMarlin FuruløkkenSecant ASGuro GjesdalShow OffMarlen SevereidShow Off ASArvid SalteSkogly Investering ASKrister WembergSparebank 1 Sør-NorgeMagnus NedrebøSparebanken NorgeChristoffer SingstadSparebanken NorgeFredrik WilhelmsenSven Kvia ASKenny PVideoassist ASAnders KroghVideoforce Scandinavia ASCamilla GuzmanWestco Miljø
URL:https://heiabryne.no/event/nettverksfrokost-pa-haland-kjott/
LOCATION:Håland Kjøtt\, Solavegen 21\, Kleppe
CATEGORIES:Nettverkstreff
ATTACH;FMTTYPE=image/jpeg:https://heiabryne.no/wp-content/uploads/2026/01/Haland-Kjott_skilt_lysskilt_fasade.jpg
ORGANIZER;CN="Bryne FK":MAILTO:bjorn@brynefk.no
END:VEVENT
END:VCALENDAR