BEGIN:VCALENDAR
VERSION:2.0
PRODID:-//Bryne FK - ECPv6.15.18//NONSGML v1.0//EN
CALSCALE:GREGORIAN
METHOD:PUBLISH
X-WR-CALNAME:Bryne FK
X-ORIGINAL-URL:https://heiabryne.no
X-WR-CALDESC:Arrangement for Bryne FK
REFRESH-INTERVAL;VALUE=DURATION:PT1H
X-Robots-Tag:noindex
X-PUBLISHED-TTL:PT1H
BEGIN:VTIMEZONE
TZID:Europe/Paris
BEGIN:DAYLIGHT
TZOFFSETFROM:+0100
TZOFFSETTO:+0200
TZNAME:CEST
DTSTART:20250330T010000
END:DAYLIGHT
BEGIN:STANDARD
TZOFFSETFROM:+0200
TZOFFSETTO:+0100
TZNAME:CET
DTSTART:20251026T010000
END:STANDARD
BEGIN:DAYLIGHT
TZOFFSETFROM:+0100
TZOFFSETTO:+0200
TZNAME:CEST
DTSTART:20260329T010000
END:DAYLIGHT
BEGIN:STANDARD
TZOFFSETFROM:+0200
TZOFFSETTO:+0100
TZNAME:CET
DTSTART:20261025T010000
END:STANDARD
BEGIN:DAYLIGHT
TZOFFSETFROM:+0100
TZOFFSETTO:+0200
TZNAME:CEST
DTSTART:20270328T010000
END:DAYLIGHT
BEGIN:STANDARD
TZOFFSETFROM:+0200
TZOFFSETTO:+0100
TZNAME:CET
DTSTART:20271031T010000
END:STANDARD
END:VTIMEZONE
BEGIN:VEVENT
DTSTART;TZID=Europe/Paris:20260903T193000
DTEND;TZID=Europe/Paris:20260906T230000
DTSTAMP:20260423T004047
CREATED:20260128T133837Z
LAST-MODIFIED:20260128T134109Z
UID:4658-1788463800-1788735600@heiabryne.no
SUMMARY:Nettverkstur til England
DESCRIPTION:Bli med på årets nettverkstur til pulserende Brighton ved den engelske sørkysten. Våre årlige nettverksturer er en av de viktigste arenaene for å styrke samarbeidet med våre verdifulle nettverkspartnere. I år går turen til livlige og sjarmerende Brighton\, og arrangeres av klubben i samarbeid med vår erfarne reiseleverandør\, Travelevent AS. \nDette er en unik anledning til å tilbringe flere dager sammen i uformelle og inspirerende omgivelser. Her får vi god tid til å bli bedre kjent og videreutvikle relasjoner som kan skape forretninger både med og for hverandre. \n\nKlikk her for informasjon og påmelding
URL:https://heiabryne.no/event/nettverkstur-til-england/
CATEGORIES:Nettverkstreff
ATTACH;FMTTYPE=image/webp:https://heiabryne.no/wp-content/uploads/2026/01/Brighton02.webp
END:VEVENT
END:VCALENDAR