BEGIN:VCALENDAR
VERSION:2.0
PRODID:-//Bryne FK - ECPv6.15.18//NONSGML v1.0//EN
CALSCALE:GREGORIAN
METHOD:PUBLISH
X-ORIGINAL-URL:https://heiabryne.no
X-WR-CALDESC:Arrangement for Bryne FK
REFRESH-INTERVAL;VALUE=DURATION:PT1H
X-Robots-Tag:noindex
X-PUBLISHED-TTL:PT1H
BEGIN:VTIMEZONE
TZID:Europe/Paris
BEGIN:DAYLIGHT
TZOFFSETFROM:+0100
TZOFFSETTO:+0200
TZNAME:CEST
DTSTART:20250330T010000
END:DAYLIGHT
BEGIN:STANDARD
TZOFFSETFROM:+0200
TZOFFSETTO:+0100
TZNAME:CET
DTSTART:20251026T010000
END:STANDARD
BEGIN:DAYLIGHT
TZOFFSETFROM:+0100
TZOFFSETTO:+0200
TZNAME:CEST
DTSTART:20260329T010000
END:DAYLIGHT
BEGIN:STANDARD
TZOFFSETFROM:+0200
TZOFFSETTO:+0100
TZNAME:CET
DTSTART:20261025T010000
END:STANDARD
BEGIN:DAYLIGHT
TZOFFSETFROM:+0100
TZOFFSETTO:+0200
TZNAME:CEST
DTSTART:20270328T010000
END:DAYLIGHT
BEGIN:STANDARD
TZOFFSETFROM:+0200
TZOFFSETTO:+0100
TZNAME:CET
DTSTART:20271031T010000
END:STANDARD
END:VTIMEZONE
BEGIN:VEVENT
DTSTART;TZID=Europe/Paris:20260321T130000
DTEND;TZID=Europe/Paris:20260321T230000
DTSTAMP:20260422T192411
CREATED:20260129T081551Z
LAST-MODIFIED:20260309T121135Z
UID:4671-1774098000-1774134000@heiabryne.no
SUMMARY:100-årskickoff & VIP Bryne - Viking
DESCRIPTION:Vi varmer opp til ny jubileumssesong med 100-års Kick Off på Bryne stadion lørdag 21. mars. Det blir en historisk begivenhet når A-lag kvinner sparker i gang sesongen i 1. divisjon med hjemmekamp mot Viking. Etter kampen blir det middag på klubbhuset før vi går ned til Bekkis for Kickoff. På Bekkis blir det underholdning ved Jens Budsberg før konferansier PK kjører presentasjon av begge A-lag.\n \nProgram:\n13:00 Mingling på VIP-tribunen\n14:00 Bryne – Viking – Sesongstart 1. divisjon kvinner\n16:00 Middag og mingling på klubbhuset\n19:00 Showstart på Bekkis\n \n990 kroner per person. Inkluderer vorspiel\, middag\, drikke og reservert plass på Kickoff.\n \n\nPlease enable JavaScript in your browser to complete this form.LayoutNavn *Firma *Epost *KommentarfeltAllergier og eventuell annen informasjonVi kommer  \nDisse har meldt seg på:\n NavnFirmaAsgeir NesvågBryne FKBjørn Hagerup RøkenBryne FKLisa ChristiansenBryne FKFrode HagerupBryne FK styretEskil SolaByggelagetSteinarFoodbackStian Løkling PedersenFoodbackAndreas BreimyrFoodbackSander VebenstadHeimdalSven Erik HebnesHeimdal Forvaltning ASKjosavikKjosavik ReiserKjosavikKjosavik ReiserEric SkailandMotorcenter NorwayTonette m hetlandMotorcenter norwayFrits KvernelandNorengros KjosavikØystein NygårdSandmyrKrister WembergSparebank 1 Sør-NorgeFredrik WilhelmsenSven KviaÅsulv PræsttunSven KviaKenny PVideoassistHaavard Christopher HanaVideoassist
URL:https://heiabryne.no/event/vorspiel-til-100-arskickoff/
LOCATION:Bryne Stadion\, Trallfaveien 3\, Bryne\, 4344\, Norge
CATEGORIES:Nettverkstreff
ATTACH;FMTTYPE=image/jpeg:https://heiabryne.no/wp-content/uploads/2026/01/20250328-VH206774-X4.jpg
END:VEVENT
END:VCALENDAR