BEGIN:VCALENDAR
VERSION:2.0
PRODID:-//Bryne FK - ECPv6.15.18//NONSGML v1.0//EN
CALSCALE:GREGORIAN
METHOD:PUBLISH
X-WR-CALNAME:Bryne FK
X-ORIGINAL-URL:https://heiabryne.no
X-WR-CALDESC:Arrangement for Bryne FK
REFRESH-INTERVAL;VALUE=DURATION:PT1H
X-Robots-Tag:noindex
X-PUBLISHED-TTL:PT1H
BEGIN:VTIMEZONE
TZID:Europe/Paris
BEGIN:DAYLIGHT
TZOFFSETFROM:+0100
TZOFFSETTO:+0200
TZNAME:CEST
DTSTART:20250330T010000
END:DAYLIGHT
BEGIN:STANDARD
TZOFFSETFROM:+0200
TZOFFSETTO:+0100
TZNAME:CET
DTSTART:20251026T010000
END:STANDARD
BEGIN:DAYLIGHT
TZOFFSETFROM:+0100
TZOFFSETTO:+0200
TZNAME:CEST
DTSTART:20260329T010000
END:DAYLIGHT
BEGIN:STANDARD
TZOFFSETFROM:+0200
TZOFFSETTO:+0100
TZNAME:CET
DTSTART:20261025T010000
END:STANDARD
BEGIN:DAYLIGHT
TZOFFSETFROM:+0100
TZOFFSETTO:+0200
TZNAME:CEST
DTSTART:20270328T010000
END:DAYLIGHT
BEGIN:STANDARD
TZOFFSETFROM:+0200
TZOFFSETTO:+0100
TZNAME:CET
DTSTART:20271031T010000
END:STANDARD
END:VTIMEZONE
BEGIN:VEVENT
DTSTART;TZID=Europe/Paris:20260820T090000
DTEND;TZID=Europe/Paris:20260821T100000
DTSTAMP:20260423T002932
CREATED:20260129T101232Z
LAST-MODIFIED:20260211T151803Z
UID:4682-1787216400-1787306400@heiabryne.no
SUMMARY:Bryne FK Grand Prix
DESCRIPTION:Tid: Torsdag 20. august klokken 09:00 \nTorsdag 20.08:\n09:00 Oppmøte Bryne stadion\n10:30 Motorcenter Norway  – kjøring på bane med bilene til Motorcenter Norway. Lunsj klokken 13:00.\n15:00 Buss til Egersund og innsjekk på Grand Hotell\n17:00 Middag på Grand Hotell\n\n \n\nFredag 21. august\n09:00 Buss hjem til Bryne stadion\n\n \nPris: Kr. 4990 eks. mva. Inkluderer lunsj\, middag\, ølsmaking\, buss\, overnatting\, frokost og kjøring på Motorcenter Norway.\n \nPåmeldingsfrist: mandag 3. august.\n \n\nPåmelding:\nPlease enable JavaScript in your browser to complete this form.LayoutNavn *Firma *Epost *Kommentar eller eventuelle ekstra behovJeg kommer   \nDisse har meldt seg på:\n NavnFirmaFrode ØstbøAvarn SecurityBjørn Hagerup RøkenBryne FKAsgeir NesvågBryne FKKenneth OlsenServicegrossistene D. Danielsen ASChristoffer SingstadSparebanken Norge
URL:https://heiabryne.no/event/bryne-fk-grand-prix-2/
CATEGORIES:Nettverkstreff
ATTACH;FMTTYPE=image/jpeg:https://heiabryne.no/wp-content/uploads/2025/06/sanelbilsept24.jpg
ORGANIZER;CN="Bryne FK":MAILTO:bjorn@brynefk.no
END:VEVENT
END:VCALENDAR